BEGIN:VCALENDAR
VERSION:2.0
PRODID:-//Transportation Authority of Marin - ECPv6.15.20//NONSGML v1.0//EN
CALSCALE:GREGORIAN
METHOD:PUBLISH
X-WR-CALNAME:Transportation Authority of Marin
X-ORIGINAL-URL:https://www.tam.ca.gov
X-WR-CALDESC:Events for Transportation Authority of Marin
REFRESH-INTERVAL;VALUE=DURATION:PT1H
X-Robots-Tag:noindex
X-PUBLISHED-TTL:PT1H
BEGIN:VTIMEZONE
TZID:America/Denver
BEGIN:DAYLIGHT
TZOFFSETFROM:-0700
TZOFFSETTO:-0600
TZNAME:MDT
DTSTART:20220313T090000
END:DAYLIGHT
BEGIN:STANDARD
TZOFFSETFROM:-0600
TZOFFSETTO:-0700
TZNAME:MST
DTSTART:20221106T080000
END:STANDARD
BEGIN:DAYLIGHT
TZOFFSETFROM:-0700
TZOFFSETTO:-0600
TZNAME:MDT
DTSTART:20230312T090000
END:DAYLIGHT
BEGIN:STANDARD
TZOFFSETFROM:-0600
TZOFFSETTO:-0700
TZNAME:MST
DTSTART:20231105T080000
END:STANDARD
BEGIN:DAYLIGHT
TZOFFSETFROM:-0700
TZOFFSETTO:-0600
TZNAME:MDT
DTSTART:20240310T090000
END:DAYLIGHT
BEGIN:STANDARD
TZOFFSETFROM:-0600
TZOFFSETTO:-0700
TZNAME:MST
DTSTART:20241103T080000
END:STANDARD
END:VTIMEZONE
BEGIN:VEVENT
DTSTART;TZID=America/Denver:20230814T140000
DTEND;TZID=America/Denver:20230814T140000
DTSTAMP:20260421T041449
CREATED:20221228T175403Z
LAST-MODIFIED:20230728T204515Z
UID:17655-1692021600-1692021600@www.tam.ca.gov
SUMMARY:Executive Committee Meetings
DESCRIPTION:Funding\, Programs & Legislation Executive Committee Meeting – Cancellation Notice \nAdministration\, Projects & Planning Executive Committee Meeting – Cancellation Notice
URL:https://www.tam.ca.gov/event/executive-committee-meetings-66/
LOCATION:Zoom\, CA\, United States
END:VEVENT
END:VCALENDAR