BEGIN:VCALENDAR
VERSION:2.0
PRODID:-//Transportation Authority of Marin - ECPv6.15.20//NONSGML v1.0//EN
CALSCALE:GREGORIAN
METHOD:PUBLISH
X-WR-CALNAME:Transportation Authority of Marin
X-ORIGINAL-URL:https://www.tam.ca.gov
X-WR-CALDESC:Events for Transportation Authority of Marin
REFRESH-INTERVAL;VALUE=DURATION:PT1H
X-Robots-Tag:noindex
X-PUBLISHED-TTL:PT1H
BEGIN:VTIMEZONE
TZID:UTC
BEGIN:STANDARD
TZOFFSETFROM:+0000
TZOFFSETTO:+0000
TZNAME:UTC
DTSTART:20160101T000000
END:STANDARD
END:VTIMEZONE
BEGIN:VEVENT
DTSTART;TZID=UTC:20170727T000000
DTEND;TZID=UTC:20170727T000000
DTSTAMP:20260421T145314
CREATED:20170621T225831Z
LAST-MODIFIED:20170711T235822Z
UID:12494-1501113600-1501113600@www.tam.ca.gov
SUMMARY:Board of Commissioners Meeting - Cancelled
DESCRIPTION:Board of Commissioners Meeting – Cancelled\n\nDate: 7/27/2017 7:00 PM\nLocation: Marin County Civic Center\n3501 Civic Center Drive\, Room 330\nSan Rafael\, California 94903\n\nView the Cancellation Notice \n\nTest link color is green
URL:https://www.tam.ca.gov/event/board-of-commissioners-meeting-11/
CATEGORIES:7-27-17 Board Mtg,Board Of Commisioners
END:VEVENT
END:VCALENDAR