BEGIN:VCALENDAR
VERSION:2.0
PRODID:-//Transportation Authority of Marin - ECPv6.15.20//NONSGML v1.0//EN
CALSCALE:GREGORIAN
METHOD:PUBLISH
X-WR-CALNAME:Transportation Authority of Marin
X-ORIGINAL-URL:https://www.tam.ca.gov
X-WR-CALDESC:Events for Transportation Authority of Marin
REFRESH-INTERVAL;VALUE=DURATION:PT1H
X-Robots-Tag:noindex
X-PUBLISHED-TTL:PT1H
BEGIN:VTIMEZONE
TZID:America/Denver
BEGIN:DAYLIGHT
TZOFFSETFROM:-0700
TZOFFSETTO:-0600
TZNAME:MDT
DTSTART:20210314T090000
END:DAYLIGHT
BEGIN:STANDARD
TZOFFSETFROM:-0600
TZOFFSETTO:-0700
TZNAME:MST
DTSTART:20211107T080000
END:STANDARD
BEGIN:DAYLIGHT
TZOFFSETFROM:-0700
TZOFFSETTO:-0600
TZNAME:MDT
DTSTART:20220313T090000
END:DAYLIGHT
BEGIN:STANDARD
TZOFFSETFROM:-0600
TZOFFSETTO:-0700
TZNAME:MST
DTSTART:20221106T080000
END:STANDARD
BEGIN:DAYLIGHT
TZOFFSETFROM:-0700
TZOFFSETTO:-0600
TZNAME:MDT
DTSTART:20230312T090000
END:DAYLIGHT
BEGIN:STANDARD
TZOFFSETFROM:-0600
TZOFFSETTO:-0700
TZNAME:MST
DTSTART:20231105T080000
END:STANDARD
BEGIN:DAYLIGHT
TZOFFSETFROM:-0700
TZOFFSETTO:-0600
TZNAME:MDT
DTSTART:20240310T090000
END:DAYLIGHT
BEGIN:STANDARD
TZOFFSETFROM:-0600
TZOFFSETTO:-0700
TZNAME:MST
DTSTART:20241103T080000
END:STANDARD
END:VTIMEZONE
BEGIN:VEVENT
DTSTART;TZID=America/Denver:20230221T170000
DTEND;TZID=America/Denver:20230221T170000
DTSTAMP:20260421T230747
CREATED:20221201T215310Z
LAST-MODIFIED:20230309T191928Z
UID:17596-1676998800-1676998800@www.tam.ca.gov
SUMMARY:Citizens' Oversight Committee Meeting
DESCRIPTION:Meeting Agenda \nMeeting Agenda Packet \nItem 7 – Attachment A: Draft FY2021-22 COC/2022 TAM Annual Report \nWatch the Meeting
URL:https://www.tam.ca.gov/event/citizens-oversight-committee-meeting-24/
LOCATION:TAM Conference Room\, 900 Fifth Avenue\, San Rafael\, CA\, 94901\, United States
END:VEVENT
BEGIN:VEVENT
DTSTART;TZID=America/Denver:20230213T140000
DTEND;TZID=America/Denver:20230213T140000
DTSTAMP:20260421T230747
CREATED:20221228T175022Z
LAST-MODIFIED:20230314T160821Z
UID:17661-1676296800-1676296800@www.tam.ca.gov
SUMMARY:Executive Committee Meetings
DESCRIPTION:2:00 p.m. – Funding\, Programs & Legislation Executive Committee Meeting Agenda (or full packet here) \nRead Approved Minutes Here \nWatch the Meeting \n  \n3:30 p.m.  – Administration\, Projects & Planning Executive Committee Meeting Agenda (or full packet here) \nRead Approved Minutes Here \nWatch the Meeting
URL:https://www.tam.ca.gov/event/executive-committee-meetings-60/
LOCATION:Zoom\, CA\, United States
END:VEVENT
BEGIN:VEVENT
DTSTART;TZID=America/Denver:20230126T180000
DTEND;TZID=America/Denver:20230126T180000
DTSTAMP:20260421T230747
CREATED:20221212T231446Z
LAST-MODIFIED:20230224T185324Z
UID:17627-1674756000-1674756000@www.tam.ca.gov
SUMMARY:Board of Commissioners Meeting
DESCRIPTION:Read the Approved Minutes Here \nWatch the Meeting \nView Agenda \nView Full Agenda Packet \nView Supplemental Information
URL:https://www.tam.ca.gov/event/board-of-commissioners-meeting-77/
LOCATION:Zoom\, CA\, United States
END:VEVENT
BEGIN:VEVENT
DTSTART;TZID=America/Denver:20230109T140000
DTEND;TZID=America/Denver:20230109T140000
DTSTAMP:20260421T230747
CREATED:20221212T231607Z
LAST-MODIFIED:20230314T161037Z
UID:17628-1673272800-1673272800@www.tam.ca.gov
SUMMARY:Executive Committee Meetings
DESCRIPTION:2:00 p.m. – Funding\, Programs & Legislation Executive Committee Meeting Agenda (or full packet here) \nView Supplemental Information \nRead Approved Minutes Here \nWatch the Meeting \n  \n3:30 p.m.  – Administration\, Projects & Planning Executive Committee Meeting Agenda (or full packet here) \nRead Approved Minutes Here \nWatch the Meeting
URL:https://www.tam.ca.gov/event/executive-committee-meetings-59/
LOCATION:Zoom\, CA\, United States
END:VEVENT
BEGIN:VEVENT
DTSTART;TZID=America/Denver:20221215T180000
DTEND;TZID=America/Denver:20221215T180000
DTSTAMP:20260421T230747
CREATED:20211222T003020Z
LAST-MODIFIED:20230127T191710Z
UID:16817-1671127200-1671127200@www.tam.ca.gov
SUMMARY:Board of Commissioners Meeting
DESCRIPTION:Read the Approved Minutes Here \nWatch the Meeting \nView Agenda \nView Full Agenda Packet \nView Supplemental Information
URL:https://www.tam.ca.gov/event/board-of-commissioners-meeting-76/
LOCATION:Zoom\, CA\, United States
END:VEVENT
BEGIN:VEVENT
DTSTART;TZID=America/Denver:20221212T140000
DTEND;TZID=America/Denver:20221212T140000
DTSTAMP:20260421T230747
CREATED:20211222T002043Z
LAST-MODIFIED:20221201T214739Z
UID:16812-1670853600-1670853600@www.tam.ca.gov
SUMMARY:Executive Committee Meetings
DESCRIPTION:2:00 p.m. – Funding\, Programs & Legislation Executive Committee Meeting Cancellation Notice \n3:30 p.m.  – Administration\, Projects & Planning Executive Committee Meeting Cancellation Notice
URL:https://www.tam.ca.gov/event/executive-committee-meetings-58/
LOCATION:Zoom\, CA\, United States
END:VEVENT
BEGIN:VEVENT
DTSTART;TZID=America/Denver:20221201T093000
DTEND;TZID=America/Denver:20221201T093000
DTSTAMP:20260421T230747
CREATED:20220304T174858Z
LAST-MODIFIED:20221128T230325Z
UID:16990-1669887000-1669887000@www.tam.ca.gov
SUMMARY:State Route 37 Policy Committee Meeting
DESCRIPTION:Meeting Details \nPlease click the link below to join the webinar: \nhttps://us02web.zoom.us/j/83585735210?pwd=UFRhc1dGSi9MNmxyZEEzYkxWSHNGZz09 \nWebinar ID: 835 8573 5210 \nPasscode: 739682 \nAgenda Link \n 
URL:https://www.tam.ca.gov/event/state-route-37-policy-committee-meeting-12/
LOCATION:900 Fifth Avenue\, San Rafael\, CA\, United States
END:VEVENT
BEGIN:VEVENT
DTSTART;TZID=America/Denver:20221121T170000
DTEND;TZID=America/Denver:20221121T170000
DTSTAMP:20260421T230747
CREATED:20221102T161558Z
LAST-MODIFIED:20221115T224511Z
UID:17556-1669050000-1669050000@www.tam.ca.gov
SUMMARY:Citizens' Oversight Committee Meeting
DESCRIPTION:The November 21 Citizens’ Oversight Committee (COC) meeting will be conducted in-person at the TAM Offices. Members of the COC and the public may continue to participate in the meeting virtually via Zoom if preferred. \nTo join virtually via Zoom: \nhttps://us02web.zoom.us/j/89359942657?pwd=TzNmemgwNFRIanN3QWVGVklVdUZXZz09 \n To Join by Phone: \nPlease do so by dialing in to the following number: +1 669 900 6833 \nWebinar ID: 893 5994 2657\nPasscode: 112122 \n All in-person attendees are required to wear face coverings and socially distance as recommended by public health authorities and in consideration of input from meeting attendees. All attendees are encouraged to be fully vaccinated. \n How to Provide Comment on Agenda Items: \n\nBefore the meeting: email your comments to gzhuang@tam.ca.gov. Please email your comments no later than 1:00 P.M. Monday\, November 21\, 2022 to facilitate timely distribution to Committee members.  Please include the agenda item number you are addressing and your name and address.  Your comments will be forwarded to the COC members and will be placed into the public record.\nDuring the meeting (only): To ensue your comments are received timely during the meeting\, please send your comments to info@tam.ca.gov early in the meeting. Your comments will be read (3-minute limit per comment) when the specific agenda item is considered by the Committee and will also become part of the public record.\nDuring the meeting (only): If participating the meeting via Zoom\, please click on the “raise hand” feature in the webinar control. If participating by phone\, “raise hand” by pressing *9. Please ensure that you are in a quiet environment with no background noise and you will be notified that your device has been unmuted when it is your turn to speak. You may be notified prior to your allotted time being over. Your comments will also become part of the public record.\n\nMeeting Agenda  \nMeeting Agenda Packet \nItem 6 – Attachment A: Draft TAM FY2021-22 Annual Comprehensive Financial Report \n 
URL:https://www.tam.ca.gov/event/citizens-oversight-committee-meeting-23/
LOCATION:Zoom\, CA\, United States
END:VEVENT
BEGIN:VEVENT
DTSTART;TZID=America/Denver:20221117T180000
DTEND;TZID=America/Denver:20221117T180000
DTSTAMP:20260421T230747
CREATED:20211222T002941Z
LAST-MODIFIED:20221102T162325Z
UID:16818-1668708000-1668708000@www.tam.ca.gov
SUMMARY:Board of Commissioners Meeting - CANCELLED
DESCRIPTION:Meeting details to be posted at least 72 hours prior to the meeting.
URL:https://www.tam.ca.gov/event/board-of-commissioners-meeting-75/
LOCATION:Zoom\, CA\, United States
END:VEVENT
BEGIN:VEVENT
DTSTART;TZID=America/Denver:20221114T140000
DTEND;TZID=America/Denver:20221114T140000
DTSTAMP:20260421T230747
CREATED:20211222T002012Z
LAST-MODIFIED:20230111T173011Z
UID:16813-1668434400-1668434400@www.tam.ca.gov
SUMMARY:Executive Committee Meetings
DESCRIPTION:2:00 p.m. – Funding\, Programs & Legislation Executive Committee Meeting Agenda (or full packet here) \nRead Approved Minutes Here \n3:30 p.m.  – Administration\, Projects & Planning Executive Committee Meeting Cancellation Notice
URL:https://www.tam.ca.gov/event/executive-committee-meetings-57/
LOCATION:Zoom\, CA\, United States
END:VEVENT
BEGIN:VEVENT
DTSTART;TZID=America/Denver:20221027T180000
DTEND;TZID=America/Denver:20221027T180000
DTSTAMP:20260421T230747
CREATED:20211222T002856Z
LAST-MODIFIED:20221216T165738Z
UID:16819-1666893600-1666893600@www.tam.ca.gov
SUMMARY:Board of Commissioners Meeting
DESCRIPTION:Read the Approved Minutes Here \nWatch the Meeting \nView Agenda \nView Full Agenda Packet \nView Supplemental Information
URL:https://www.tam.ca.gov/event/board-of-commissioners-meeting-74/
LOCATION:Zoom\, CA\, United States
END:VEVENT
BEGIN:VEVENT
DTSTART;TZID=America/Denver:20221024T170000
DTEND;TZID=America/Denver:20221024T170000
DTSTAMP:20260421T230747
CREATED:20220722T001418Z
LAST-MODIFIED:20221025T182553Z
UID:17355-1666630800-1666630800@www.tam.ca.gov
SUMMARY:Citizens' Oversight Committee Meeting
DESCRIPTION:The October 24 Citizens’ Oversight Committee (COC) meeting will be conducted in-person at the TAM Offices. Members of the COC and the public may continue to participate in the meeting virtually via Zoom if preferred. \nTo join virtually via Zoom: \nhttps://us02web.zoom.us/j/83771996786?pwd=NldTdnlqQ1cyOEZQWkV3aGNuL1RWQT09 \n To Join by Phone: \nPlease do so by dialing in to the following number: +1 669 900 6833 \nWebinar ID: 837 7199 6786\nPasscode: 102422 \n All in-person attendees are required to wear face coverings and socially distance as recommended by public health authorities and in consideration of input from meeting attendees. All attendees are encouraged to be fully vaccinated. \n How to Provide Comment on Agenda Items: \n\nBefore the meeting: email your comments to gzhuang@tam.ca.gov. Please email your comments no later than 1:00 P.M. Monday\, October 24\, 2022 to facilitate timely distribution to Committee members.  Please include the agenda item number you are addressing and your name and address.  Your comments will be forwarded to the COC members and will be placed into the public record.\nDuring the meeting (only): To ensue your comments are received timely during the meeting\, please send your comments to info@tam.ca.gov early in the meeting. Your comments will be read (3-minute limit per comment) when the specific agenda item is considered by the Committee and will also become part of the public record.\nDuring the meeting (only): If participating the meeting via Zoom\, please click on the “raise hand” feature in the webinar control. If participating by phone\, “raise hand” by pressing *9. Please ensure that you are in a quiet environment with no background noise and you will be notified that your device has been unmuted when it is your turn to speak. You may be notified prior to your allotted time being over. Your comments will also become part of the public record.\n\nMeeting Agenda  \nMeeting Agenda Packet \nExecutive Director’s Report (EDR) \nMeasure B Element 1.2 Pathway Distribution List FY19-20 \n 
URL:https://www.tam.ca.gov/event/citizens-oversight-committee-meeting-22/
LOCATION:Zoom\, CA\, United States
END:VEVENT
BEGIN:VEVENT
DTSTART;TZID=America/Denver:20221010T140000
DTEND;TZID=America/Denver:20221010T140000
DTSTAMP:20260421T230747
CREATED:20211222T001935Z
LAST-MODIFIED:20230111T172133Z
UID:16814-1665410400-1665410400@www.tam.ca.gov
SUMMARY:Executive Committee Meetings
DESCRIPTION:2:00 p.m. – Funding\, Programs & Legislation Executive Committee Meeting Cancellation Notice \n3:30 p.m.  – Administration\, Projects & Planning Executive Committee Meeting Agenda (or full packet here) \nView Supplemental Information \nRead Approved Minutes Here
URL:https://www.tam.ca.gov/event/executive-committee-meetings-56/
LOCATION:Zoom\, CA\, United States
END:VEVENT
BEGIN:VEVENT
DTSTART;TZID=America/Denver:20220922T180000
DTEND;TZID=America/Denver:20220922T180000
DTSTAMP:20260421T230747
CREATED:20211222T002816Z
LAST-MODIFIED:20221216T165633Z
UID:16820-1663869600-1663869600@www.tam.ca.gov
SUMMARY:Board of Commissioners Meeting
DESCRIPTION:Read the Approved Minutes Here \nWatch the Meeting \nView Agenda \nView Full Agenda Packet \nView Supplemental Information
URL:https://www.tam.ca.gov/event/board-of-commissioners-meeting-73/
LOCATION:Zoom\, CA\, United States
END:VEVENT
BEGIN:VEVENT
DTSTART;TZID=America/Denver:20220919T170000
DTEND;TZID=America/Denver:20220919T170000
DTSTAMP:20260421T230747
CREATED:20220830T225428Z
LAST-MODIFIED:20220830T225428Z
UID:17425-1663606800-1663606800@www.tam.ca.gov
SUMMARY:Citizens' Oversight Committee Meeting - CANCELLED
DESCRIPTION:
URL:https://www.tam.ca.gov/event/citizens-oversight-committee-meeting-cancelled-2/
LOCATION:Zoom\, CA\, United States
END:VEVENT
BEGIN:VEVENT
DTSTART;TZID=America/Denver:20220912T140000
DTEND;TZID=America/Denver:20220912T140000
DTSTAMP:20260421T230747
CREATED:20211222T001856Z
LAST-MODIFIED:20221121T223117Z
UID:16815-1662991200-1662991200@www.tam.ca.gov
SUMMARY:Executive Committee Meetings
DESCRIPTION:2:00 p.m. – Funding\, Programs & Legislation Executive Committee Meeting Agenda (or full packet here) \nRead Approved Minutes Here \n3:30 p.m.  – Administration\, Projects & Planning Executive Committee Meeting Agenda (or full packet here) \nRead Approved Minutes Here
URL:https://www.tam.ca.gov/event/executive-committee-meetings-55/
LOCATION:Zoom\, CA\, United States
END:VEVENT
BEGIN:VEVENT
DTSTART;TZID=America/Denver:20220901T093000
DTEND;TZID=America/Denver:20220901T093000
DTSTAMP:20260421T230747
CREATED:20220304T174815Z
LAST-MODIFIED:20220831T233859Z
UID:16991-1662024600-1662024600@www.tam.ca.gov
SUMMARY:State Route 37 Policy Committee Meeting
DESCRIPTION:Click here for meeting information. \n 
URL:https://www.tam.ca.gov/event/state-route-37-policy-committee-meeting-11/
LOCATION:900 Fifth Avenue\, San Rafael\, CA\, United States
END:VEVENT
BEGIN:VEVENT
DTSTART;TZID=America/Denver:20220829T173000
DTEND;TZID=America/Denver:20220829T173000
DTSTAMP:20260421T230747
CREATED:20220728T221744Z
LAST-MODIFIED:20230524T170351Z
UID:17365-1661794200-1661794200@www.tam.ca.gov
SUMMARY:Bicycle/Pedestrian Advisory Committee Meeting
DESCRIPTION:Read the Approved Minutes Here \nView Agenda \nView Full Agenda Packet \nView Supplemental Information
URL:https://www.tam.ca.gov/event/bicycle-pedestrian-advisory-committee-meeting-3/
LOCATION:Zoom\, CA\, United States
END:VEVENT
BEGIN:VEVENT
DTSTART;TZID=America/Denver:20220825T180000
DTEND;TZID=America/Denver:20220825T180000
DTSTAMP:20260421T230747
CREATED:20211222T002738Z
LAST-MODIFIED:20220728T222144Z
UID:16821-1661450400-1661450400@www.tam.ca.gov
SUMMARY:Board of Commissioners Meeting - CANCELLED
DESCRIPTION:
URL:https://www.tam.ca.gov/event/board-of-commissioners-meeting-72/
LOCATION:Zoom\, CA\, United States
END:VEVENT
BEGIN:VEVENT
DTSTART;TZID=America/Denver:20220808T140000
DTEND;TZID=America/Denver:20220808T140000
DTSTAMP:20260421T230747
CREATED:20211222T001744Z
LAST-MODIFIED:20220728T222102Z
UID:16811-1659967200-1659967200@www.tam.ca.gov
SUMMARY:Executive Committee Meetings - CANCELLED
DESCRIPTION:2:00 p.m. – Funding\, Programs & Legislation Executive Committee Meeting – CANCELLED \n3:30 p.m. – Administration\, Projects & Planning Executive Committee Meeting – CANCELLED
URL:https://www.tam.ca.gov/event/executive-committee-meetings-54/
LOCATION:Zoom\, CA\, United States
END:VEVENT
BEGIN:VEVENT
DTSTART;TZID=America/Denver:20220728T180000
DTEND;TZID=America/Denver:20220728T180000
DTSTAMP:20260421T230747
CREATED:20211222T002659Z
LAST-MODIFIED:20220923T161548Z
UID:16822-1659031200-1659031200@www.tam.ca.gov
SUMMARY:Board of Commissioners Meeting
DESCRIPTION:Read the Approved Minutes Here \nWatch the Meeting \nView Agenda \nView Full Agenda Packet \nView Supplemental Information
URL:https://www.tam.ca.gov/event/board-of-commissioners-meeting-71/
LOCATION:Zoom\, CA\, United States
END:VEVENT
BEGIN:VEVENT
DTSTART;TZID=America/Denver:20220718T170000
DTEND;TZID=America/Denver:20220718T170000
DTSTAMP:20260421T230747
CREATED:20220512T174227Z
LAST-MODIFIED:20220713T180415Z
UID:17184-1658163600-1658163600@www.tam.ca.gov
SUMMARY:Citizens' Oversight Committee Meeting
DESCRIPTION:The July 18 Citizens’ Oversight Committee (COC) meeting will be conducted in-person at the TAM Offices. Members of the COC and the public may continue to participate in the meeting virtually via Zoom if preferred. \nTo join virtually via Zoom: \nhttps://us02web.zoom.us/j/89798286408?pwd=cXRhb0Y0QXJPL0pVZCt3SjVtTy8xdz09 \nTo Join by Phone: \nPlease do so by dialing in to the following number: +1 669 900 6833 \nWebinar ID: 897 9828 6408\nPasscode: 071822 \nAll in-person attendees are required to wear face coverings and socially distance as recommended by public health authorities and in consideration of input from meeting attendees. All attendees are encouraged to be fully vaccinated.  \nHow to Provide Comment on Agenda Items: \n\nBefore the meeting: email your comments to gzhuang@tam.ca.gov. Please email your comments no later than 1:00 P.M. Monday\, July 18\, 2022 to facilitate timely distribution to Committee members.  Please include the agenda item number you are addressing and your name and address.  Your comments will be forwarded to the COC members and will be placed into the public record.\nDuring the meeting (only): To ensue your comments are received timely during the meeting\, please send your comments to info@tam.ca.gov early in the meeting. Your comments will be read (3-minute limit per comment) when the specific agenda item is considered by the Committee and will also become part of the public record.\nDuring the meeting (only): If participating the meeting via Zoom\, please click on the “raise hand” feature in the webinar control. If participating by phone\, “raise hand” by pressing *9. Please ensure that you are in a quiet environment with no background noise and you will be notified that your device has been unmuted when it is your turn to speak. You may be notified prior to your allotted time being over. Your comments will also become part of the public record.\n\nMeeting Agenda \nMeeting Agenda Packet
URL:https://www.tam.ca.gov/event/citizens-oversight-committee-meeting-21/
LOCATION:Zoom\, CA\, United States
END:VEVENT
BEGIN:VEVENT
DTSTART;TZID=America/Denver:20220711T140000
DTEND;TZID=America/Denver:20220711T140000
DTSTAMP:20260421T230747
CREATED:20211222T001509Z
LAST-MODIFIED:20220914T164018Z
UID:16806-1657548000-1657548000@www.tam.ca.gov
SUMMARY:Executive Committee Meetings
DESCRIPTION:2:00 p.m. – Funding\, Programs & Legislation Executive Committee Meeting Cancellation Notice \n3:30 p.m.  – Administration\, Projects & Planning Executive Committee Meeting Agenda (or full packet here) \nRead Approved Minutes Here
URL:https://www.tam.ca.gov/event/executive-committee-meetings-53/
LOCATION:Zoom\, CA\, United States
END:VEVENT
BEGIN:VEVENT
DTSTART;TZID=America/Denver:20220623T180000
DTEND;TZID=America/Denver:20220623T180000
DTSTAMP:20260421T230747
CREATED:20211222T002609Z
LAST-MODIFIED:20220729T164047Z
UID:16823-1656007200-1656007200@www.tam.ca.gov
SUMMARY:Board of Commissioners Meeting
DESCRIPTION:Read the Approved Minutes Here \nWatch the Meeting \nView Agenda \nView Full Agenda Packet \nView Supplemental Information
URL:https://www.tam.ca.gov/event/board-of-commissioners-meeting-70/
LOCATION:Zoom\, CA\, United States
END:VEVENT
BEGIN:VEVENT
DTSTART;TZID=America/Denver:20220620T170000
DTEND;TZID=America/Denver:20220620T170000
DTSTAMP:20260421T230747
CREATED:20220512T174038Z
LAST-MODIFIED:20220615T183925Z
UID:17183-1655744400-1655744400@www.tam.ca.gov
SUMMARY:Citizens' Oversight Committee Meeting
DESCRIPTION:The June 20 Citizens’ Oversight Committee (COC) meeting will be conducted in-person at the TAM Offices at 900 Fifth Avenue\, Suite 100\, San Rafael\, CA 94901. Members of the COC and the public may continue to participate in the meeting virtually via Zoom if preferred. \nHow to watch the meeting: \nhttps://us02web.zoom.us/j/84865054627?pwd=aXVpbFpCZzYwZnBSK1ZSczJQaGVJZz09 \nWebinar ID: 848 6505 4627\nPasscode: 062022 \nTeleconference:  Members of the public wishing to participate via teleconference\, can do so by dialing in to the following number at 5:00 PM on the day of the meeting: +1 669 900 6833; Webinar ID: 848 6505 4627; Passcode: 062022 \nAll in-person attendees are required to wear face coverings and socially distance as recommended by public health authorities and in consideration of input from meeting attendees. All attendees are encouraged to be fully vaccinated. \nHow to provide comment on agenda items: \n\nBefore the meeting: email your comments to gzhuang@tam.ca.gov. Please email your comments no later than 1:00 P.M. Monday\, June 20\, 2022 to facilitate timely distribution to Committee members.  Please include the agenda item number you are addressing and your name and address.  Your comments will be forwarded to the TAM COC members and will be placed into the public record.\nDuring the meeting (only): Your meeting-related comments may be sent to info@tam.ca.gov   During the meeting your comments will be read (3-minute limit per comment) when the specific agenda item is considered by the Committee. Your comment will also become part of the public record.  In order to ensure staff receives your comment during the meeting\, it is recommended that you send your comment using info@tam.ca.gov early in the meeting.\nDuring the meeting (only): If watching this meeting online\, click on the “raise hand” feature in the webinar controls. This will notify TAM staff that you would like to comment. If participating by phone\, “raise hand” on Zoom by pressing *9 and wait to be called upon by the Chair or the Clerk to speak. Ensure that you are in a quiet environment with no background noise.  You will be notified that your device has been unmuted when it is your turn to speak. You may be notified prior to your allotted time being over. Your comments will also become part of the public record.\n\n  \nMeeting Agenda \nMeeting Agenda Packet \n 
URL:https://www.tam.ca.gov/event/citizens-oversight-committee-meeting-20/
LOCATION:Zoom\, CA\, United States
END:VEVENT
BEGIN:VEVENT
DTSTART;TZID=America/Denver:20220613T140000
DTEND;TZID=America/Denver:20220613T140000
DTSTAMP:20260421T230747
CREATED:20211222T001306Z
LAST-MODIFIED:20220914T163854Z
UID:16807-1655128800-1655128800@www.tam.ca.gov
SUMMARY:Executive Committee Meetings
DESCRIPTION:2:00 p.m. – Funding\, Programs & Legislation Executive Committee Meeting Cancellation Notice \n3:30 p.m.  – Administration\, Projects & Planning Executive Committee Meeting Agenda (or full packet here) \nRead Approved Minutes Here
URL:https://www.tam.ca.gov/event/executive-committee-meetings-52/
LOCATION:Zoom\, CA\, United States
END:VEVENT
BEGIN:VEVENT
DTSTART;TZID=America/Denver:20220602T093000
DTEND;TZID=America/Denver:20220602T093000
DTSTAMP:20260421T230747
CREATED:20220304T174715Z
LAST-MODIFIED:20220304T174722Z
UID:16992-1654162200-1654162200@www.tam.ca.gov
SUMMARY:State Route 37 Policy Committee Meeting
DESCRIPTION:  \n 
URL:https://www.tam.ca.gov/event/state-route-37-policy-committee-meeting-10/
LOCATION:900 Fifth Avenue\, San Rafael\, CA\, United States
END:VEVENT
BEGIN:VEVENT
DTSTART;TZID=America/Denver:20220526T180000
DTEND;TZID=America/Denver:20220526T180000
DTSTAMP:20260421T230747
CREATED:20211222T002529Z
LAST-MODIFIED:20220624T200818Z
UID:16824-1653588000-1653588000@www.tam.ca.gov
SUMMARY:Board of Commissioners Meeting
DESCRIPTION:Read the Approved Minutes Here \nWatch the Meeting \nView Agenda \nView Full Agenda Packet \nView Supplemental Information
URL:https://www.tam.ca.gov/event/board-of-commissioners-meeting-69/
LOCATION:Zoom\, CA\, United States
END:VEVENT
BEGIN:VEVENT
DTSTART;TZID=America/Denver:20220516T170000
DTEND;TZID=America/Denver:20220516T170000
DTSTAMP:20260421T230747
CREATED:20220419T234146Z
LAST-MODIFIED:20220510T002857Z
UID:17129-1652720400-1652720400@www.tam.ca.gov
SUMMARY:Citizens' Oversight Committee Meeting
DESCRIPTION:Effective May 16\, 2022\, the Citizen’s Oversight Committee (COC) meetings will be conducted in-person at the TAM Offices at 900 Fifth Avenue\, Suite 100\, San Rafael\, CA 94901. Attendance will be limited to 50 percent of room capacity (no more than 30 persons) and all in-person attendees are required to wear face coverings and socially distance as recommended by public health authorities and in consideration of input from meeting attendees. All attendees are encouraged to be fully vaccinated. \nMeetings will also continue to be on Zoom for some participants and streamed live and members of the public may participate remotely as described below. \nHow to watch the meeting: \nhttps://us02web.zoom.us/j/81228121069?pwd=Zk1aOWtxdlJxbGFRd1pGb1dXTE5jZz09 \nWebinar ID: 812 2812 1069\nPasscode: 051622 \nTeleconference:  Members of the public wishing to participate via teleconference\, can do so by dialing in to the following number at 5:00 PM on the day of the meeting: +1 669 900 6833; Webinar ID: 812 2812 1069; Passcode: 051622 \nHow to provide comment on agenda items: \n\nBefore the meeting: email your comments to gzhuang@tam.ca.gov. Please email your comments no later than 1:00 P.M. Monday\, May 16\, 2022 to facilitate timely distribution to Committee members.  Please include the agenda item number you are addressing and your name and address.  Your comments will be forwarded to the TAM COC members and will be placed into the public record.\nDuring the meeting (only): Your meeting-related comments may be sent to info@tam.ca.gov   During the meeting your comments will be read (3-minute limit per comment) when the specific agenda item is considered by the Committee. Your comment will also become part of the public record.  In order to ensure staff receives your comment during the meeting\, it is recommended that you send your comment using info@tam.ca.gov early in the meeting.\nDuring the meeting (only): If watching this meeting online\, click on the “raise hand” feature in the webinar controls. This will notify TAM staff that you would like to comment. If participating by phone\, “raise hand” on Zoom by pressing *9 and wait to be called upon by the Chair or the Clerk to speak. Ensure that you are in a quiet environment with no background noise.  You will be notified that your device has been unmuted when it is your turn to speak. You may be notified prior to your allotted time being over. Your comments will also become part of the public record.\n\n  \nMeeting Agenda \nMeeting Agenda Packet \n 
URL:https://www.tam.ca.gov/event/citizens-oversight-committee-meeting-19/
LOCATION:Zoom\, CA\, United States
END:VEVENT
BEGIN:VEVENT
DTSTART;TZID=America/Denver:20220509T140000
DTEND;TZID=America/Denver:20220509T140000
DTSTAMP:20260421T230747
CREATED:20211222T001237Z
LAST-MODIFIED:20220914T163723Z
UID:16808-1652104800-1652104800@www.tam.ca.gov
SUMMARY:Executive Committee Meetings
DESCRIPTION:2:00 p.m. – Funding\, Programs & Legislation Executive Committee Meeting Agenda (or full packet here) \nRead Approved Minutes Here \n3:30 p.m.  – Administration\, Projects & Planning Executive Committee Meeting Agenda (or full packet here) \nRead Approved Minutes Here
URL:https://www.tam.ca.gov/event/executive-committee-meetings-51/
LOCATION:Zoom\, CA\, United States
END:VEVENT
END:VCALENDAR